BEGIN:VCALENDAR
VERSION:2.0
PRODID:-//Roland Szentpáli - ECPv6.7.1//NONSGML v1.0//EN
CALSCALE:GREGORIAN
METHOD:PUBLISH
X-WR-CALNAME:Roland Szentpáli
X-ORIGINAL-URL:https://rolandszentpali.com
X-WR-CALDESC:Events for Roland Szentpáli
REFRESH-INTERVAL;VALUE=DURATION:PT1H
X-Robots-Tag:noindex
X-PUBLISHED-TTL:PT1H
BEGIN:VTIMEZONE
TZID:UTC
BEGIN:STANDARD
TZOFFSETFROM:+0000
TZOFFSETTO:+0000
TZNAME:UTC
DTSTART:20200101T000000
END:STANDARD
END:VTIMEZONE
BEGIN:VEVENT
DTSTART;VALUE=DATE:20200724
DTEND;VALUE=DATE:20200730
DTSTAMP:20260426T023944
CREATED:20200117T203548Z
LAST-MODIFIED:20200117T203548Z
UID:2773-1595548800-1596067199@rolandszentpali.com
SUMMARY:WEIMAR MASTER CLASSES\, Tuba: Roland SZENTPÁLI
DESCRIPTION:ROLAND SZENTPÁLI – TUBA \n24 – 29 July 2020 \nN.N.\, Accompanist \nPreselection: Two works from different musical periods (YouTube link)\nBeginning of the master class: 24 July 2020\, 10:00 am\nCourse Language: English\nOrchestra studio (as soloist): 29 July 2020 \nRegistration fee: 80 Euros\nActive participation: 350 Euros\nOrchestra studio: 50 Euro \n::: Registration :::\nOnline registration starts on 1 March 2020 \nAccommodation offer\nPeriod: 23 – 30 July 2020 (7 nights) \nLeonardo Hotel \n½ Double Room: 196 Euro (zzgl. Frühstück)\nSingle Room: 336 Euro (zzgl. Frühstück) \nConcert\nRoland Szentpáli & Participants: 28 July 2019\, 7:30 pm\, Festsaal Fürstenhaus
URL:https://rolandszentpali.com/event/weimar-master-classes-tuba-roland-szentpali/
LOCATION:University of Music FRANZ LISZT Weimar\, Postfach 2552\, Weimar\, 99406\, Germany
CATEGORIES:Master class,Solo concerts
ATTACH;FMTTYPE=image/jpeg:https://rolandszentpali.com/wp-content/uploads/2018/07/Z8A4318_pp.jpg
END:VEVENT
END:VCALENDAR